BEGIN:VCALENDAR
VERSION:2.0
PRODID:-//Tauchclub Simbach am Inn - ECPv6.15.12.2//NONSGML v1.0//EN
CALSCALE:GREGORIAN
METHOD:PUBLISH
X-WR-CALNAME:Tauchclub Simbach am Inn
X-ORIGINAL-URL:https://www.tauchrein.de
X-WR-CALDESC:Veranstaltungen für Tauchclub Simbach am Inn
REFRESH-INTERVAL;VALUE=DURATION:PT1H
X-Robots-Tag:noindex
X-PUBLISHED-TTL:PT1H
BEGIN:VTIMEZONE
TZID:UTC
BEGIN:STANDARD
TZOFFSETFROM:+0000
TZOFFSETTO:+0000
TZNAME:UTC
DTSTART:20250101T000000
END:STANDARD
END:VTIMEZONE
BEGIN:VTIMEZONE
TZID:Europe/Paris
BEGIN:DAYLIGHT
TZOFFSETFROM:+0100
TZOFFSETTO:+0200
TZNAME:CEST
DTSTART:20250330T010000
END:DAYLIGHT
BEGIN:STANDARD
TZOFFSETFROM:+0200
TZOFFSETTO:+0100
TZNAME:CET
DTSTART:20251026T010000
END:STANDARD
BEGIN:DAYLIGHT
TZOFFSETFROM:+0100
TZOFFSETTO:+0200
TZNAME:CEST
DTSTART:20260329T010000
END:DAYLIGHT
BEGIN:STANDARD
TZOFFSETFROM:+0200
TZOFFSETTO:+0100
TZNAME:CET
DTSTART:20261025T010000
END:STANDARD
BEGIN:DAYLIGHT
TZOFFSETFROM:+0100
TZOFFSETTO:+0200
TZNAME:CEST
DTSTART:20270328T010000
END:DAYLIGHT
BEGIN:STANDARD
TZOFFSETFROM:+0200
TZOFFSETTO:+0100
TZNAME:CET
DTSTART:20271031T010000
END:STANDARD
END:VTIMEZONE
BEGIN:VEVENT
DTSTART;TZID=UTC:20260425T080000
DTEND;TZID=UTC:20260425T170000
DTSTAMP:20260423T124513
CREATED:20251201T123808Z
LAST-MODIFIED:20260105T120552Z
UID:1460-1777104000-1777136400@www.tauchrein.de
SUMMARY:Antauchen / Saisonstart
DESCRIPTION:Anmeldung ist nicht erforderlich.\nGrillfleisch oder Würst´l nicht vergessen\, da der Grill auch wieder mitfährt!
URL:https://www.tauchrein.de/event/antauchen-saisonstart
LOCATION:Tauchbasis\, Wilhelm-Dieß-Straße 8\, Simbach a. Inn\, Bayern\, 84359\, Germany
ORGANIZER;CN="Andreas Stadler":MAILTO:anderl@tauchrein.de
END:VEVENT
BEGIN:VEVENT
DTSTART;VALUE=DATE:20260514
DTEND;VALUE=DATE:20260521
DTSTAMP:20260423T124513
CREATED:20251201T124110Z
LAST-MODIFIED:20251201T125904Z
UID:1462-1778716800-1779321599@www.tauchrein.de
SUMMARY:Tauchtrip nach Kroatien
DESCRIPTION:Beginn / Abfahrt: 7:00; Ort: Tauchbasis\nÜbernachtung am Campingplatz oder im Hotel Marina / Hotel Mediteran\nAufenthaltsdauer individuell\, Anmeldung auch kurzfristig möglich\, Unterkunft auf Anfrage
URL:https://www.tauchrein.de/event/tauchtrip-nach-kroatien
LOCATION:Moscenicka Draga\, Aleja Slatina 2\, Mošćenička Draga\, 51417\, Croatia (Local Name: Hrvatska)
ORGANIZER;CN="Manfred Fischer":MAILTO:manfred@tauchrein.de
END:VEVENT
BEGIN:VEVENT
DTSTART;TZID=UTC:20260607T080000
DTEND;TZID=UTC:20260607T170000
DTSTAMP:20260423T124513
CREATED:20251201T130335Z
LAST-MODIFIED:20251201T130335Z
UID:1475-1780819200-1780851600@www.tauchrein.de
SUMMARY:Monatlicher Tauchausflug
DESCRIPTION:Anmeldung erwünscht
URL:https://www.tauchrein.de/event/monatlicher-tauchausflug
LOCATION:Tauchbasis\, Wilhelm-Dieß-Straße 8\, Simbach a. Inn\, Bayern\, 84359\, Germany
ORGANIZER;CN="Manfred Fischer":MAILTO:manfred@tauchrein.de
END:VEVENT
BEGIN:VEVENT
DTSTART;TZID=UTC:20260627T143000
DTEND;TZID=UTC:20260627T220000
DTSTAMP:20260423T124513
CREATED:20251201T130207Z
LAST-MODIFIED:20251201T130207Z
UID:1473-1782570600-1782597600@www.tauchrein.de
SUMMARY:Stadtfest Simbach am Inn
DESCRIPTION:Die Abteilung Tauchen beteiligt sich wie jedes Jahr am Umzug vom Rathaus zum Aenus und zurück\, anschl. gibt’s für jeden Teilnehmer mind. ein Freibier (oder Limo).\nAnmeldung ist erwünscht! Stellplatz wird noch bekannt gegeben.
URL:https://www.tauchrein.de/event/stadtfest-simbach-am-inn
LOCATION:Bayern
ORGANIZER;CN="Manfred Fischer":MAILTO:manfred@tauchrein.de
END:VEVENT
BEGIN:VEVENT
DTSTART;TZID=UTC:20260705T080000
DTEND;TZID=UTC:20260705T170000
DTSTAMP:20260423T124513
CREATED:20251201T130445Z
LAST-MODIFIED:20251201T130445Z
UID:1477-1783238400-1783270800@www.tauchrein.de
SUMMARY:Monatlicher Tauchausflug
DESCRIPTION:Anmeldung erwünscht!
URL:https://www.tauchrein.de/event/monatlicher-tauchausflug-2
LOCATION:Tauchbasis\, Wilhelm-Dieß-Straße 8\, Simbach a. Inn\, Bayern\, 84359\, Germany
ORGANIZER;CN="Manfred Fischer":MAILTO:manfred@tauchrein.de
END:VEVENT
BEGIN:VEVENT
DTSTART;VALUE=DATE:20260706
DTEND;VALUE=DATE:20260711
DTSTAMP:20260423T124513
CREATED:20251201T130557Z
LAST-MODIFIED:20251201T130557Z
UID:1479-1783296000-1783727999@www.tauchrein.de
SUMMARY:Tauchtrip nach Kroatien (Rovinj / Vestar)
DESCRIPTION:Übernachtung am Campingplatz / Mobilehome oder örtl. Hotel\nAnmeldung auch kurzfristig möglich\, Unterkunft auf eigene Anfrage
URL:https://www.tauchrein.de/event/tauchtrip-nach-kroatien-rovinj-vestar
LOCATION:Tauchbasis\, Wilhelm-Dieß-Straße 8\, Simbach a. Inn\, Bayern\, 84359\, Germany
ORGANIZER;CN="Manfred Fischer":MAILTO:manfred@tauchrein.de
END:VEVENT
BEGIN:VEVENT
DTSTART;VALUE=DATE:20260710
DTEND;VALUE=DATE:20260715
DTSTAMP:20260423T124513
CREATED:20251201T130655Z
LAST-MODIFIED:20251201T130655Z
UID:1481-1783641600-1784073599@www.tauchrein.de
SUMMARY:Tauchtrip nach Kroatien (Pula / Stoja)
DESCRIPTION:Beginn / Abfahrt: Eigenplanung\nÜbernachtung am Campingplatz / Mobilehome oder örtl. Hotel\nAnmeldung auch kurzfristig möglich\, Unterkunft auf eigene Anfrage
URL:https://www.tauchrein.de/event/tauchtrip-nach-kroatien-pula-stoja
LOCATION:Bayern
ORGANIZER;CN="Manfred Fischer":MAILTO:manfred@tauchrein.de
END:VEVENT
BEGIN:VEVENT
DTSTART;TZID=UTC:20260802T080000
DTEND;TZID=UTC:20260802T170000
DTSTAMP:20260423T124513
CREATED:20251201T131012Z
LAST-MODIFIED:20251201T131012Z
UID:1483-1785657600-1785690000@www.tauchrein.de
SUMMARY:Monatlicher Tauchausflug
DESCRIPTION:
URL:https://www.tauchrein.de/event/monatlicher-tauchausflug-3
LOCATION:Tauchbasis\, Wilhelm-Dieß-Straße 8\, Simbach a. Inn\, Bayern\, 84359\, Germany
ORGANIZER;CN="Manfred Fischer":MAILTO:manfred@tauchrein.de
END:VEVENT
BEGIN:VEVENT
DTSTART;TZID=UTC:20260807T150000
DTEND;TZID=UTC:20260807T230000
DTSTAMP:20260423T124513
CREATED:20251201T131137Z
LAST-MODIFIED:20251201T131153Z
UID:1485-1786114800-1786143600@www.tauchrein.de
SUMMARY:Nachttauchen am Attersee
DESCRIPTION:Auf Wunsch kann das Sonderbrevet Nachttauchen gemacht werden!
URL:https://www.tauchrein.de/event/nachttauchen
LOCATION:Tauchbasis\, Wilhelm-Dieß-Straße 8\, Simbach a. Inn\, Bayern\, 84359\, Germany
ORGANIZER;CN="Martin Hirler":MAILTO:martin@tauchrein.de
END:VEVENT
BEGIN:VEVENT
DTSTART;TZID=UTC:20260808T180000
DTEND;TZID=UTC:20260808T230000
DTSTAMP:20260423T124513
CREATED:20260212T071923Z
LAST-MODIFIED:20260212T071923Z
UID:1587-1786212000-1786230000@www.tauchrein.de
SUMMARY:Sommerfest am Lago
DESCRIPTION:Sommerfest am Lago (Kirchdorf Waldsee) \nGetränke wie immer frei\, Grill ist vorhanden. Alle Mitglieder der Abteilung Tauchen sind herzlich eingeladen.
URL:https://www.tauchrein.de/event/sommerfest-am-lago
LOCATION:Walsdee Kirchdorf\, Am Kirchdorfer Waldsee 2\, Kirchdorf am Inn\, Bayern\, 84375\, Germany
ORGANIZER;CN="Tauchclub Simbach a. Inn":MAILTO:florian@tauchrein.de
END:VEVENT
BEGIN:VEVENT
DTSTART;TZID=UTC:20260825T183000
DTEND;TZID=UTC:20260825T203000
DTSTAMP:20260423T124513
CREATED:20251201T131445Z
LAST-MODIFIED:20251201T131445Z
UID:1492-1787682600-1787689800@www.tauchrein.de
SUMMARY:Training von Fertigkeiten (Skills) im Schwimmbad
DESCRIPTION:
URL:https://www.tauchrein.de/event/training-von-fertigkeiten-skills-im-schwimmbad
LOCATION:Tauchbasis\, Wilhelm-Dieß-Straße 8\, Simbach a. Inn\, Bayern\, 84359\, Germany
ORGANIZER;CN="Florian Kalleder":MAILTO:florian@tauchrein.de
END:VEVENT
BEGIN:VEVENT
DTSTART;TZID=UTC:20260906T080000
DTEND;TZID=UTC:20260906T170000
DTSTAMP:20260423T124513
CREATED:20251201T131529Z
LAST-MODIFIED:20251201T131529Z
UID:1495-1788681600-1788714000@www.tauchrein.de
SUMMARY:Monatlicher Tauchausflug
DESCRIPTION:
URL:https://www.tauchrein.de/event/monatlicher-tauchausflug-4
LOCATION:Tauchbasis\, Wilhelm-Dieß-Straße 8\, Simbach a. Inn\, Bayern\, 84359\, Germany
ORGANIZER;CN="Manfred Fischer":MAILTO:manfred@tauchrein.de
END:VEVENT
BEGIN:VEVENT
DTSTART;TZID=UTC:20260913T080000
DTEND;TZID=UTC:20260913T170000
DTSTAMP:20260423T124513
CREATED:20251201T131725Z
LAST-MODIFIED:20251201T131725Z
UID:1498-1789286400-1789318800@www.tauchrein.de
SUMMARY:Schnitzeljagd im See
DESCRIPTION:Eine spannende Unterwasser Schnitzeljagd im See führt den Taucher entlang versteckter Hinweise und Rätsel\, die nur unter Wasser zu finden sind. Ziel ist es\, alle Stationen zu entdecken und das finale Objekt zu bergen\, bevor die Zeit abläuft.
URL:https://www.tauchrein.de/event/schnitzeljagd-im-see
LOCATION:Tauchbasis\, Wilhelm-Dieß-Straße 8\, Simbach a. Inn\, Bayern\, 84359\, Germany
ORGANIZER;CN="Armin Gr%C3%B6tzinger":MAILTO:armin@tauchrein.de
END:VEVENT
BEGIN:VEVENT
DTSTART;TZID=UTC:20261107T093000
DTEND;TZID=UTC:20261107T123000
DTSTAMP:20260423T124513
CREATED:20251201T132133Z
LAST-MODIFIED:20260112T163609Z
UID:1501-1794043800-1794054600@www.tauchrein.de
SUMMARY:AK Medizinpraxis
DESCRIPTION:Der Bewerber soll in Theorie und Praxis mit dem Gebrauch von Wiederbelebungsmodellen\, Notfallkoffern\, Sauerstoffsystemen und Automatische Externe Defibrillation (AED) vertraut gemacht werden\, soweit dies in den Bereich der Erste-Hilfe-Maßnahmen und Reanimation für Laienhelfer hineinreicht. (Das Lehren der Injektions- und Infusionstechnik ist hierin nicht enthalten.) Nach Abschluss des Kurses soll er \n\nfähig sein\, einen Verunfallten nach einer vorgegebenen Diagnose erfolgreich mit den verschiede-nen Sauerstoffsystemen zu behandeln\nfähig sein\, einen Herz-Kreislauf-Stillstand erfolgreich zu reanimieren (HLW)\n\nPreis:  für externe Teilnehmer 45\,- (Mitglieder TC Simbach 30\,-)\n(Getränke und Verpflegung nicht inkludiert) \nAnmeldung bei Florian Kalleder  (florian@tauchrein.de)
URL:https://www.tauchrein.de/event/ak-medizinpraxis
LOCATION:Inntalhof Kirchdorf\, Hauptstraße 43\, Kirchdorf am Inn\, Bayern\, 84375\, Germany
ORGANIZER;CN="Florian Kalleder":MAILTO:florian@tauchrein.de
END:VEVENT
BEGIN:VEVENT
DTSTART;TZID=UTC:20261206T080000
DTEND;TZID=UTC:20261206T170000
DTSTAMP:20260423T124513
CREATED:20251201T132358Z
LAST-MODIFIED:20251201T132358Z
UID:1507-1796544000-1796576400@www.tauchrein.de
SUMMARY:Nikolaustauchen
DESCRIPTION:Anmeldung erwünscht
URL:https://www.tauchrein.de/event/nikolaustauchen
LOCATION:Tauchbasis\, Wilhelm-Dieß-Straße 8\, Simbach a. Inn\, Bayern\, 84359\, Germany
ORGANIZER;CN="Manfred Fischer":MAILTO:manfred@tauchrein.de
END:VEVENT
BEGIN:VEVENT
DTSTART;TZID=UTC:20261231T080000
DTEND;TZID=UTC:20261231T170000
DTSTAMP:20260423T124513
CREATED:20251201T132443Z
LAST-MODIFIED:20251201T132443Z
UID:1509-1798704000-1798736400@www.tauchrein.de
SUMMARY:Silvestertauchen
DESCRIPTION:Für die Besorgung der Weißwürste Anmeldung bis 22.12.2026 erforderlich
URL:https://www.tauchrein.de/event/silvestertauchen
LOCATION:Tauchbasis\, Wilhelm-Dieß-Straße 8\, Simbach a. Inn\, Bayern\, 84359\, Germany
ORGANIZER;CN="Andreas Stadler":MAILTO:anderl@tauchrein.de
END:VEVENT
END:VCALENDAR